BEGIN:VCALENDAR
VERSION:2.0
PRODID:-//Friends of Nathaniel Witherall - ECPv6.15.17.1//NONSGML v1.0//EN
CALSCALE:GREGORIAN
METHOD:PUBLISH
X-WR-CALNAME:Friends of Nathaniel Witherall
X-ORIGINAL-URL:https://friendsofnathanielwitherell.org
X-WR-CALDESC:Events for Friends of Nathaniel Witherall
REFRESH-INTERVAL;VALUE=DURATION:PT1H
X-Robots-Tag:noindex
X-PUBLISHED-TTL:PT1H
BEGIN:VTIMEZONE
TZID:America/New_York
BEGIN:DAYLIGHT
TZOFFSETFROM:-0500
TZOFFSETTO:-0400
TZNAME:EDT
DTSTART:20240310T070000
END:DAYLIGHT
BEGIN:STANDARD
TZOFFSETFROM:-0400
TZOFFSETTO:-0500
TZNAME:EST
DTSTART:20241103T060000
END:STANDARD
BEGIN:DAYLIGHT
TZOFFSETFROM:-0500
TZOFFSETTO:-0400
TZNAME:EDT
DTSTART:20250309T070000
END:DAYLIGHT
BEGIN:STANDARD
TZOFFSETFROM:-0400
TZOFFSETTO:-0500
TZNAME:EST
DTSTART:20251102T060000
END:STANDARD
BEGIN:DAYLIGHT
TZOFFSETFROM:-0500
TZOFFSETTO:-0400
TZNAME:EDT
DTSTART:20260308T070000
END:DAYLIGHT
BEGIN:STANDARD
TZOFFSETFROM:-0400
TZOFFSETTO:-0500
TZNAME:EST
DTSTART:20261101T060000
END:STANDARD
END:VTIMEZONE
BEGIN:VEVENT
DTSTART;TZID=America/New_York:20251104T180000
DTEND;TZID=America/New_York:20251104T193000
DTSTAMP:20260420T070920
CREATED:20251203T195948Z
LAST-MODIFIED:20260413T191340Z
UID:10000001-1762279200-1762284600@friendsofnathanielwitherell.org
SUMMARY:Peace of Mind: Making Sense of Senior Care and Costs
DESCRIPTION:« All Events\n \nThis event has passed. \n\n	Peace of Mind: Making Sense of Senior Care and Costs\n			November 4\n	 @\n6:00 pm\n	 –\n7:30 pm\n	\n					\n									REGISTER NOW\n					 \n\n			\n		Greenwich Library			\n	\n\n101 W Putnam Ave\n		\n		Greenwich\,\n	CT\n	06830\n	United States\n\n\n	+ Google Map \n\n					\n						\n	 \n\n\n\n\n	\n	Add to calendar	\n		\n	\n \n\n\n	Google Calendar\n\n\n	iCalendar\n\n\n	Outlook 365\n\n\n	Outlook Live\n\n\n\n\n\n	\n		The Art of Caring Gala
URL:https://friendsofnathanielwitherell.org/event/peace-of-mind-making-sense-of-senior-care-and-costs/
LOCATION:Greenwich Library\, 101 W Putnam Ave\, Greenwich\, CT\, 06830\, United States
ATTACH;FMTTYPE=image/png:https://friendsofnathanielwitherell.org/wp-content/uploads/2025/10/Caregivers-Circle-event.png
END:VEVENT
END:VCALENDAR